BEGIN:VCALENDAR
VERSION:2.0
PRODID:-//Swami Vivekanand Vidyaprasarak Mandal&#039;s College of Commerce - ECPv6.5.1.6//NONSGML v1.0//EN
CALSCALE:GREGORIAN
METHOD:PUBLISH
X-WR-CALNAME:Swami Vivekanand Vidyaprasarak Mandal&#039;s College of Commerce
X-ORIGINAL-URL:https://svvmcollege.com
X-WR-CALDESC:Events for Swami Vivekanand Vidyaprasarak Mandal&#039;s College of Commerce
REFRESH-INTERVAL;VALUE=DURATION:PT1H
X-Robots-Tag:noindex
X-PUBLISHED-TTL:PT1H
BEGIN:VTIMEZONE
TZID:Asia/Kolkata
BEGIN:STANDARD
TZOFFSETFROM:+0530
TZOFFSETTO:+0530
TZNAME:IST
DTSTART:20210101T000000
END:STANDARD
END:VTIMEZONE
BEGIN:VEVENT
DTSTART;TZID=Asia/Kolkata:20210527T180000
DTEND;TZID=Asia/Kolkata:20210527T190000
DTSTAMP:20260421T053055
CREATED:20210527T034241Z
LAST-MODIFIED:20210527T034515Z
UID:15546-1622138400-1622142000@svvmcollege.com
SUMMARY:Let's talk it out the experience of COVID-19 pandemic
DESCRIPTION:Link to join meeting:-\nhttps://meet.google.com/cjv-xhvt-cxj
URL:https://svvmcollege.com/event/lets-talk-it-out-the-experience-of-covid-19-pandemic/
CATEGORIES:Academics
ATTACH;FMTTYPE=image/jpeg:https://svvmcollege.com/wp-content/uploads/2021/05/bf76ff41-515e-44d2-a5fe-8f002fa9a174.jpg
END:VEVENT
END:VCALENDAR