BEGIN:VCALENDAR
VERSION:2.0
PRODID:-//Swami Vivekanand Vidyaprasarak Mandal&#039;s College of Commerce - ECPv6.5.1.6//NONSGML v1.0//EN
CALSCALE:GREGORIAN
METHOD:PUBLISH
X-ORIGINAL-URL:https://svvmcollege.com
X-WR-CALDESC:Events for Swami Vivekanand Vidyaprasarak Mandal&#039;s College of Commerce
REFRESH-INTERVAL;VALUE=DURATION:PT1H
X-Robots-Tag:noindex
X-PUBLISHED-TTL:PT1H
BEGIN:VTIMEZONE
TZID:Asia/Kolkata
BEGIN:STANDARD
TZOFFSETFROM:+0530
TZOFFSETTO:+0530
TZNAME:IST
DTSTART:20210101T000000
END:STANDARD
END:VTIMEZONE
BEGIN:VEVENT
DTSTART;TZID=Asia/Kolkata:20250716T102000
DTEND;TZID=Asia/Kolkata:20250716T102000
DTSTAMP:20260420T162743
CREATED:20250715T071650Z
LAST-MODIFIED:20250715T072004Z
UID:21852-1752661200-1752661200@svvmcollege.com
SUMMARY:STARTUPEDIA  2K25
DESCRIPTION:
URL:https://svvmcollege.com/event/startupedia-2k25/
LOCATION:SVVM’s College Hall
ATTACH;FMTTYPE=image/jpeg:https://svvmcollege.com/wp-content/uploads/2025/07/STARTUPEDIA_25_350x495.jpeg
END:VEVENT
BEGIN:VEVENT
DTSTART;TZID=Asia/Kolkata:20250628T090000
DTEND;TZID=Asia/Kolkata:20250629T173000
DTSTAMP:20260420T162743
CREATED:20250617T070538Z
LAST-MODIFIED:20250617T072512Z
UID:21716-1751101200-1751218200@svvmcollege.com
SUMMARY:कृषी महोत्सव २०२५: शेतीचो सन्मान\, तरणाट्यांक उर्बा
DESCRIPTION:🤝 In collaboration with local panchayat\, agriculture bodies & foundations. \n* For More Details click here \n* GENERAL DETAILS FOR COMPETITIONS \n* Guidelines to Set up stalls
URL:https://svvmcollege.com/event/%e0%a4%95%e0%a5%83%e0%a4%b7%e0%a5%80-%e0%a4%ae%e0%a4%b9%e0%a5%8b%e0%a4%a4%e0%a5%8d%e0%a4%b8%e0%a4%b5-%e0%a5%a8%e0%a5%a6%e0%a5%a8%e0%a5%ab-%e0%a4%b6%e0%a5%87%e0%a4%a4%e0%a5%80%e0%a4%9a%e0%a5%8b/
LOCATION:SVVM’S College Of Commerce\, College Campus\, Bori-Goa
ATTACH;FMTTYPE=image/jpeg:https://svvmcollege.com/wp-content/uploads/2025/06/Krishi_Mahotsav_2_450x350.jpeg
ORGANIZER;CN="Organises By Swami Vivekanand VM's College of Commerce":MAILTO:svvmcollege@yahoo.com
END:VEVENT
BEGIN:VEVENT
DTSTART;TZID=Asia/Kolkata:20250405T100000
DTEND;TZID=Asia/Kolkata:20250405T130000
DTSTAMP:20260420T162743
CREATED:20250403T053043Z
LAST-MODIFIED:20250403T053422Z
UID:21529-1743847200-1743858000@svvmcollege.com
SUMMARY:Annual Prize Distribution Ceremony
DESCRIPTION:
URL:https://svvmcollege.com/event/annual-prize-distribution-ceremony/
LOCATION:SVVM’s College Hall
ATTACH;FMTTYPE=image/jpeg:https://svvmcollege.com/wp-content/uploads/2022/04/annual-prize.jpeg
ORGANIZER;CN="Organises By Swami Vivekanand VM's College of Commerce":MAILTO:svvmcollege@yahoo.com
END:VEVENT
BEGIN:VEVENT
DTSTART;TZID=Asia/Kolkata:20250326T090000
DTEND;TZID=Asia/Kolkata:20250326T090000
DTSTAMP:20260420T162743
CREATED:20250325T035649Z
LAST-MODIFIED:20250325T042824Z
UID:21463-1742979600-1742979600@svvmcollege.com
SUMMARY:Blood Donation Camp
DESCRIPTION:In Collaboration with GMC Blood Bank
URL:https://svvmcollege.com/event/blood-donation-camp/
LOCATION:SVVM’S College Of Commerce\, College Campus\, Bori-Goa
ATTACH;FMTTYPE=image/jpeg:https://svvmcollege.com/wp-content/uploads/2025/03/blood-donation.jpeg
END:VEVENT
BEGIN:VEVENT
DTSTART;VALUE=DATE:20250106
DTEND;VALUE=DATE:20250108
DTSTAMP:20260420T162743
CREATED:20250103T035333Z
LAST-MODIFIED:20250103T035720Z
UID:21147-1736121600-1736294399@svvmcollege.com
SUMMARY:All Goa Inter-collegiate Sepaktakraw Tournament (men & women)
DESCRIPTION:* For Rules and Regulation click here
URL:https://svvmcollege.com/event/all-goa-inter-collegiate-sepaktakraw-tournament-men-women/
LOCATION:Indoor Sports Complex\, Ponda Goa
ATTACH;FMTTYPE=image/jpeg:https://svvmcollege.com/wp-content/uploads/2025/01/1.jpg
END:VEVENT
BEGIN:VEVENT
DTSTART;VALUE=DATE:20241210
DTEND;VALUE=DATE:20241215
DTSTAMP:20260420T162743
CREATED:20241111T095501Z
LAST-MODIFIED:20241111T095751Z
UID:21046-1733788800-1734220799@svvmcollege.com
SUMMARY:Time Series and Panel Data Analysis using EVIEWS and STATA
DESCRIPTION:* For More Details click here
URL:https://svvmcollege.com/event/time-series-and-panel-data-analysis-using-eviews-and-stata/
LOCATION:SVVM’s College Hall
END:VEVENT
BEGIN:VEVENT
DTSTART;TZID=Asia/Kolkata:20241118T103000
DTEND;TZID=Asia/Kolkata:20241118T103000
DTSTAMP:20260420T162743
CREATED:20241114T084351Z
LAST-MODIFIED:20241114T084351Z
UID:21053-1731925800-1731925800@svvmcollege.com
SUMMARY:Basic Life Saving course: first Aid & CPR training
DESCRIPTION:
URL:https://svvmcollege.com/event/basic-life-saving-course-first-aid-cpr-training/
LOCATION:SVVM’s College Multipurpose Hall\, Shirshire Borim\, Ponda\, Goa\, 403401\, India
END:VEVENT
BEGIN:VEVENT
DTSTART;VALUE=DATE:20241118
DTEND;VALUE=DATE:20241130
DTSTAMP:20260420T162743
CREATED:20241111T070309Z
LAST-MODIFIED:20241111T093026Z
UID:21034-1731888000-1732924799@svvmcollege.com
SUMMARY:EMPOWERMENT JOURNEY: SHAPING YOUR FUTURE
DESCRIPTION:* For More Details click here
URL:https://svvmcollege.com/event/empowerment-journey-shaping-your-future/
END:VEVENT
BEGIN:VEVENT
DTSTART;TZID=Asia/Kolkata:20230217T090000
DTEND;TZID=Asia/Kolkata:20230217T170000
DTSTAMP:20260420T162743
CREATED:20221224T055018Z
LAST-MODIFIED:20230130T044816Z
UID:18347-1676624400-1676653200@svvmcollege.com
SUMMARY:One Day National Conference  on "Technological Advancements And Emerging Trends In Physical Education Health And Sports"
DESCRIPTION:Registration fee :\nRs. 500 (for UG /PG Students)\nRs.1000/- (for Research Scholars/Faculty members)\nRs. 2000 (for Industry Delegates ). \nRegistration link:  https://forms.gle/XFmZ9rSeSwsfW3bTA
URL:https://svvmcollege.com/event/one-day-national-conference-on-technological-advancements-and-emerging-trends-in-physical-education-health-and-sports/
LOCATION:Ravindra Bhavan\, Fatorda Madgaon Goa
ATTACH;FMTTYPE=image/jpeg:https://svvmcollege.com/wp-content/uploads/2022/12/Merged_document.jpg
END:VEVENT
BEGIN:VEVENT
DTSTART;TZID=Asia/Kolkata:20230114T100000
DTEND;TZID=Asia/Kolkata:20230114T100000
DTSTAMP:20260420T162743
CREATED:20230113T091959Z
LAST-MODIFIED:20230113T092109Z
UID:18428-1673690400-1673690400@svvmcollege.com
SUMMARY:Kite Making Competition
DESCRIPTION:
URL:https://svvmcollege.com/event/kite-making-competition/
LOCATION:College Campus
CATEGORIES:Library
ATTACH;FMTTYPE=image/jpeg:https://svvmcollege.com/wp-content/uploads/2023/01/1.jpg
END:VEVENT
BEGIN:VEVENT
DTSTART;TZID=Asia/Kolkata:20221118T103000
DTEND;TZID=Asia/Kolkata:20221118T103000
DTSTAMP:20260420T162743
CREATED:20221117T093306Z
LAST-MODIFIED:20221117T093336Z
UID:18317-1668767400-1668767400@svvmcollege.com
SUMMARY:Skill India - Memorandum of Understanding between Swami Vivekanand College and Jan Shikshan Santhan
DESCRIPTION:
URL:https://svvmcollege.com/event/skill-india-memorandum-of-understanding-between-swami-vivekanand-college-and-jan-shikshan-santhan/
ATTACH;FMTTYPE=image/jpeg:https://svvmcollege.com/wp-content/uploads/2022/11/WhatsApp-Image-2022-11-17-at-13.37.39.jpeg
END:VEVENT
BEGIN:VEVENT
DTSTART;TZID=Asia/Kolkata:20221018T110000
DTEND;TZID=Asia/Kolkata:20221018T110000
DTSTAMP:20260420T162743
CREATED:20221017T091508Z
LAST-MODIFIED:20221017T091508Z
UID:18198-1666090800-1666090800@svvmcollege.com
SUMMARY:Talk on Financial Inclusion\, Financial Planning and Financial Literacy
DESCRIPTION:
URL:https://svvmcollege.com/event/talk-on-financial-inclusion-financial-planning-and-financial-literacy/
LOCATION:TY. B.Com Class
ATTACH;FMTTYPE=image/jpeg:https://svvmcollege.com/wp-content/uploads/2022/10/FA.jpeg
END:VEVENT
BEGIN:VEVENT
DTSTART;TZID=Asia/Kolkata:20221017T110000
DTEND;TZID=Asia/Kolkata:20221017T110000
DTSTAMP:20260420T162743
CREATED:20221014T060615Z
LAST-MODIFIED:20221014T060615Z
UID:18189-1666004400-1666004400@svvmcollege.com
SUMMARY:Road Safety Awarness Program
DESCRIPTION:In Collaboration with Directorate of Transport Enforcement South\, Goa
URL:https://svvmcollege.com/event/road-safety-awarness-program/
LOCATION:SVVM’s College Hall
ATTACH;FMTTYPE=image/jpeg:https://svvmcollege.com/wp-content/uploads/2022/10/road-safety.jpeg
ORGANIZER;CN="Organises By Swami Vivekanand VM's College of Commerce":MAILTO:svvmcollege@yahoo.com
END:VEVENT
BEGIN:VEVENT
DTSTART;TZID=Asia/Kolkata:20220921T110000
DTEND;TZID=Asia/Kolkata:20220921T110000
DTSTAMP:20260420T162743
CREATED:20220919T050510Z
LAST-MODIFIED:20220919T050730Z
UID:18076-1663758000-1663758000@svvmcollege.com
SUMMARY:Orientation on "Use of Library Resources"
DESCRIPTION:
URL:https://svvmcollege.com/event/orientation-on-use-of-library-resources/
LOCATION:SVVM’s College Hall
CATEGORIES:Library
ATTACH;FMTTYPE=image/jpeg:https://svvmcollege.com/wp-content/uploads/2022/09/USE-OF-LIBRARY-RESOURCES.jpeg
END:VEVENT
BEGIN:VEVENT
DTSTART;TZID=Asia/Kolkata:20220528T093000
DTEND;TZID=Asia/Kolkata:20220528T093000
DTSTAMP:20260420T162743
CREATED:20220524T073454Z
LAST-MODIFIED:20220524T073454Z
UID:17613-1653730200-1653730200@svvmcollege.com
SUMMARY:Prize Distribution Ceremony
DESCRIPTION:
URL:https://svvmcollege.com/event/prize-distribution-ceremony/
LOCATION:SVVM’s College Hall
ATTACH;FMTTYPE=image/jpeg:https://svvmcollege.com/wp-content/uploads/2022/05/WhatsApp_Image_2022-05-23_at_8.30.55_PM_1_500x600.jpeg
ORGANIZER;CN="Organises By Swami Vivekanand VM's College of Commerce":MAILTO:svvmcollege@yahoo.com
END:VEVENT
BEGIN:VEVENT
DTSTART;TZID=Asia/Kolkata:20220512T093000
DTEND;TZID=Asia/Kolkata:20220512T093000
DTSTAMP:20260420T162743
CREATED:20220507T040510Z
LAST-MODIFIED:20220507T040510Z
UID:17414-1652347800-1652347800@svvmcollege.com
SUMMARY:* Talk on "Are Social Norms root cause of Gender Disparity?"
DESCRIPTION:
URL:https://svvmcollege.com/event/talk-on-are-social-norms-root-cause-of-gender-disparity/
ATTACH;FMTTYPE=image/jpeg:https://svvmcollege.com/wp-content/uploads/2022/05/54641_2_500x600.jpg
END:VEVENT
BEGIN:VEVENT
DTSTART;TZID=Asia/Kolkata:20220510T103000
DTEND;TZID=Asia/Kolkata:20220510T103000
DTSTAMP:20260420T162743
CREATED:20220509T051526Z
LAST-MODIFIED:20220509T051526Z
UID:17435-1652178600-1652178600@svvmcollege.com
SUMMARY:Interclass Debate Competition
DESCRIPTION:
URL:https://svvmcollege.com/event/interclass-debate-competition/
ATTACH;FMTTYPE=image/jpeg:https://svvmcollege.com/wp-content/uploads/2022/05/WhatsApp_Image_2022-05-08_at_6.37.39_PM_500x600.jpeg
END:VEVENT
BEGIN:VEVENT
DTSTART;TZID=Asia/Kolkata:20220507T100000
DTEND;TZID=Asia/Kolkata:20220507T100000
DTSTAMP:20260420T162743
CREATED:20220502T074718Z
LAST-MODIFIED:20220502T075015Z
UID:17360-1651917600-1651917600@svvmcollege.com
SUMMARY:* Session on "MOOC" - Massive Open Online Course
DESCRIPTION:
URL:https://svvmcollege.com/event/session-on-mooc-massive-open-online-course/
LOCATION:TY. B.Com Class
CATEGORIES:Library
ATTACH;FMTTYPE=image/jpeg:https://svvmcollege.com/wp-content/uploads/2022/05/mooc-session.jpg
END:VEVENT
BEGIN:VEVENT
DTSTART;TZID=Asia/Kolkata:20220504T110000
DTEND;TZID=Asia/Kolkata:20220504T110000
DTSTAMP:20260420T162743
CREATED:20220504T043637Z
LAST-MODIFIED:20220504T043754Z
UID:17382-1651662000-1651662000@svvmcollege.com
SUMMARY:* Webinar on Intellectual Property Awareness
DESCRIPTION:
URL:https://svvmcollege.com/event/webinar-on-intellectual-property-awareness/
ATTACH;FMTTYPE=image/jpeg:https://svvmcollege.com/wp-content/uploads/2022/05/WhatsApp-Image-2022-05-03-at-11.31.29-PM.jpeg
END:VEVENT
BEGIN:VEVENT
DTSTART;VALUE=DATE:20220504
DTEND;VALUE=DATE:20220521
DTSTAMP:20260420T162743
CREATED:20220504T035517Z
LAST-MODIFIED:20220504T035527Z
UID:17368-1651622400-1653091199@svvmcollege.com
SUMMARY:* Certificate Course in Tally
DESCRIPTION:
URL:https://svvmcollege.com/event/certificate-course-in-tally/
LOCATION:Computer Lab
ATTACH;FMTTYPE=image/jpeg:https://svvmcollege.com/wp-content/uploads/2022/05/WhatsApp-Image-2022-05-03-at-10.00.10-AM.jpeg
END:VEVENT
BEGIN:VEVENT
DTSTART;VALUE=DATE:20220504
DTEND;VALUE=DATE:20220601
DTSTAMP:20260420T162743
CREATED:20220430T044258Z
LAST-MODIFIED:20220502T075118Z
UID:17304-1651622400-1654041599@svvmcollege.com
SUMMARY:* Yoga Camp - Unite your Body\, Breath and Mind with Complete Awareness
DESCRIPTION:🌀Things to know:\n– Please carry any mat or cloth or cotton rugs\n– wear flexible and breathable clothes\n– Saturday and Sundays are off!\n– The sessions include yoga Asana\, pranayama\, meditation\, mudras and knowledge sessions on diet and lifestyles. \n‼️ REGISTER NOW! \nPLEASE CALL/ WHATSAPP FOR REGISTRATION:\n📞: 7507194230
URL:https://svvmcollege.com/event/yoga-camp/
LOCATION:SVVM’s College Hall
ATTACH;FMTTYPE=image/jpeg:https://svvmcollege.com/wp-content/uploads/2022/04/yoga_notice_1_600x700.jpeg
END:VEVENT
BEGIN:VEVENT
DTSTART;TZID=Asia/Kolkata:20220422T120000
DTEND;TZID=Asia/Kolkata:20220422T120000
DTSTAMP:20260420T162743
CREATED:20220421T062349Z
LAST-MODIFIED:20220421T062521Z
UID:17221-1650628800-1650628800@svvmcollege.com
SUMMARY:Session on "Browsing of E-Database : N-LIST" by Dr. Keshav Dhuri
DESCRIPTION:
URL:https://svvmcollege.com/event/session-on-browsing-of-e-database-n-list-by-dr-keshav-dhuri/
LOCATION:Computer Lab
CATEGORIES:Library
ATTACH;FMTTYPE=image/jpeg:https://svvmcollege.com/wp-content/uploads/2022/04/notice.jpeg
END:VEVENT
BEGIN:VEVENT
DTSTART;TZID=Asia/Kolkata:20220409T103000
DTEND;TZID=Asia/Kolkata:20220409T103000
DTSTAMP:20260420T162743
CREATED:20220408T061900Z
LAST-MODIFIED:20220408T061900Z
UID:16975-1649500200-1649500200@svvmcollege.com
SUMMARY:FARM MARKET
DESCRIPTION:
URL:https://svvmcollege.com/event/farm-market/
LOCATION:SVVM College Entrance
ATTACH;FMTTYPE=image/jpeg:https://svvmcollege.com/wp-content/uploads/2022/04/FARMMARKET_500x500.jpeg
ORGANIZER;CN="Organises By Swami Vivekanand VM's College of Commerce":MAILTO:svvmcollege@yahoo.com
END:VEVENT
BEGIN:VEVENT
DTSTART;TZID=Asia/Kolkata:20220401T110000
DTEND;TZID=Asia/Kolkata:20220401T120000
DTSTAMP:20260420T162743
CREATED:20220331T072414Z
LAST-MODIFIED:20220331T073048Z
UID:16882-1648810800-1648814400@svvmcollege.com
SUMMARY:Talk on "Career in Banking" for TYBcom Students
DESCRIPTION:
URL:https://svvmcollege.com/event/talk-on-career-in-banking-for-tybcom-students/
ATTACH;FMTTYPE=image/jpeg:https://svvmcollege.com/wp-content/uploads/2022/03/event.jpeg
ORGANIZER;CN="Organises By Swami Vivekanand VM's College of Commerce":MAILTO:svvmcollege@yahoo.com
END:VEVENT
BEGIN:VEVENT
DTSTART;TZID=Asia/Kolkata:20220308T103000
DTEND;TZID=Asia/Kolkata:20220308T103000
DTSTAMP:20260420T162743
CREATED:20220307T063109Z
LAST-MODIFIED:20220307T063157Z
UID:16707-1646735400-1646735400@svvmcollege.com
SUMMARY:Women's Day Celebration on 8th March 2022
DESCRIPTION:
URL:https://svvmcollege.com/event/women-day-celebration-on-8th-march-2022/
LOCATION:SVVM’s College Multipurpose Hall\, Shirshire Borim\, Ponda\, Goa\, 403401\, India
ATTACH;FMTTYPE=image/jpeg:https://svvmcollege.com/wp-content/uploads/2022/03/womens_day_500x500.jpeg
ORGANIZER;CN="Organises By Swami Vivekanand VM's College of Commerce":MAILTO:svvmcollege@yahoo.com
END:VEVENT
BEGIN:VEVENT
DTSTART;TZID=Asia/Kolkata:20220228T153000
DTEND;TZID=Asia/Kolkata:20220228T153000
DTSTAMP:20260420T162743
CREATED:20220215T054809Z
LAST-MODIFIED:20220215T054809Z
UID:16681-1646062200-1646062200@svvmcollege.com
SUMMARY:State Level Article writing competition on Lata Mangeshkar Ji
DESCRIPTION:
URL:https://svvmcollege.com/event/state-level-article-writing-competition-on-lata-mangeshkar-ji/
ATTACH;FMTTYPE=image/jpeg:https://svvmcollege.com/wp-content/uploads/2022/02/5fcc8f79-4231-4e54-85f0-36b0a97863a1_500x500.jpg
END:VEVENT
BEGIN:VEVENT
DTSTART;TZID=Asia/Kolkata:20220126T080000
DTEND;TZID=Asia/Kolkata:20220126T080000
DTSTAMP:20260420T162743
CREATED:20220121T054511Z
LAST-MODIFIED:20220121T054511Z
UID:16636-1643184000-1643184000@svvmcollege.com
SUMMARY:"Compilation of Heritage of India" on the occassion of Republic Day 2022
DESCRIPTION:Organised
URL:https://svvmcollege.com/event/compilation-of-heritage-of-india-on-the-occassion-of-republic-day-2022/
CATEGORIES:Library
ATTACH;FMTTYPE=image/jpeg:https://svvmcollege.com/wp-content/uploads/2022/01/Republic_Day_-_Made_with_PosterMyWall_2_500x500.jpg
END:VEVENT
BEGIN:VEVENT
DTSTART;TZID=Asia/Kolkata:20220105T160000
DTEND;TZID=Asia/Kolkata:20220105T160000
DTSTAMP:20260420T162743
CREATED:20220104T145904Z
LAST-MODIFIED:20220104T145904Z
UID:16581-1641398400-1641398400@svvmcollege.com
SUMMARY:Inaugural function of College new premises of Swami Vivekanand VM's College of Commerce
DESCRIPTION:
URL:https://svvmcollege.com/event/inaugural-function-of-college-new-premises-of-swami-vivekanand-vms-college-of-commerce/
LOCATION:SVVM’s College Multipurpose Hall\, Shirshire Borim\, Ponda\, Goa\, 403401\, India
ATTACH;FMTTYPE=image/jpeg:https://svvmcollege.com/wp-content/uploads/2022/01/0001_1_500x500.jpg
END:VEVENT
BEGIN:VEVENT
DTSTART;TZID=Asia/Kolkata:20211205T090000
DTEND;TZID=Asia/Kolkata:20211205T090000
DTSTAMP:20260420T162743
CREATED:20211125T071345Z
LAST-MODIFIED:20211125T071345Z
UID:16436-1638694800-1638694800@svvmcollege.com
SUMMARY:Paper Bag Distribution Organised By  NSS Cell
DESCRIPTION:Paper Bag Workshop Notice
URL:https://svvmcollege.com/event/paper-bag-distribution-organised-by-nss-cell/
END:VEVENT
BEGIN:VEVENT
DTSTART;TZID=Asia/Kolkata:20211117T103000
DTEND;TZID=Asia/Kolkata:20211118T153000
DTSTAMP:20260420T162743
CREATED:20211116T072707Z
LAST-MODIFIED:20211116T072707Z
UID:16389-1637145000-1637249400@svvmcollege.com
SUMMARY:Book Exhibition on Occasion of " National Library Week 2021"
DESCRIPTION:Theme “Welcome to your Library”
URL:https://svvmcollege.com/event/book-exhibition-on-occasion-of-national-library-week-2021/
LOCATION:SVVM’s College Multipurpose Hall\, Shirshire Borim\, Ponda\, Goa\, 403401\, India
CATEGORIES:Library
ATTACH;FMTTYPE=image/jpeg:https://svvmcollege.com/wp-content/uploads/2021/11/BOOK_EXHIBITION_1_500x500.jpg
END:VEVENT
END:VCALENDAR